BEGIN:VCALENDAR
VERSION:2.0
PRODID:-//Northern Ohio - ECPv5.2.0//NONSGML v1.0//EN
CALSCALE:GREGORIAN
METHOD:PUBLISH
X-WR-CALNAME:Northern Ohio
X-ORIGINAL-URL:https://northernohio.surfrider.org
X-WR-CALDESC:Events for Northern Ohio
BEGIN:VTIMEZONE
TZID:America/Detroit
BEGIN:DAYLIGHT
TZOFFSETFROM:-0500
TZOFFSETTO:-0400
TZNAME:EDT
DTSTART:20200308T070000
END:DAYLIGHT
BEGIN:STANDARD
TZOFFSETFROM:-0400
TZOFFSETTO:-0500
TZNAME:EST
DTSTART:20201101T060000
END:STANDARD
END:VTIMEZONE
BEGIN:VEVENT
DTSTART;TZID=America/Detroit:20200912T180000
DTEND;TZID=America/Detroit:20200912T210000
DTSTAMP:20210422T062958
CREATED:20200304T233209Z
LAST-MODIFIED:20200812T154448Z
UID:462-1599933600-1599944400@northernohio.surfrider.org
SUMMARY:RiverSweep\, By Land or By Sea
DESCRIPTION:RiverSweep\, By Land or By Sea
URL:https://northernohio.surfrider.org/event/riversweep-by-land-by-sea/
END:VEVENT
END:VCALENDAR