BEGIN:VCALENDAR
VERSION:2.0
PRODID:-//Northern Ohio - ECPv5.2.0//NONSGML v1.0//EN
CALSCALE:GREGORIAN
METHOD:PUBLISH
X-WR-CALNAME:Northern Ohio
X-ORIGINAL-URL:https://northernohio.surfrider.org
X-WR-CALDESC:Events for Northern Ohio
BEGIN:VTIMEZONE
TZID:America/Detroit
BEGIN:DAYLIGHT
TZOFFSETFROM:-0500
TZOFFSETTO:-0400
TZNAME:EDT
DTSTART:20200308T070000
END:DAYLIGHT
BEGIN:STANDARD
TZOFFSETFROM:-0400
TZOFFSETTO:-0500
TZNAME:EST
DTSTART:20201101T060000
END:STANDARD
END:VTIMEZONE
BEGIN:VEVENT
DTSTART;TZID=America/Detroit:20200328T100000
DTEND;TZID=America/Detroit:20200328T140000
DTSTAMP:20210422T134739
CREATED:20200304T232438Z
LAST-MODIFIED:20200304T232438Z
UID:446-1585389600-1585404000@northernohio.surfrider.org
SUMMARY:One Hour Quick Pick
DESCRIPTION:One Hour Quick Pick: Duck Rabbit Coffee 10:00am
URL:https://northernohio.surfrider.org/event/one-hour-quick-pick/
END:VEVENT
END:VCALENDAR