BEGIN:VCALENDAR
VERSION:2.0
PRODID:-//Northern Ohio - ECPv5.2.0//NONSGML v1.0//EN
CALSCALE:GREGORIAN
METHOD:PUBLISH
X-WR-CALNAME:Northern Ohio
X-ORIGINAL-URL:https://northernohio.surfrider.org
X-WR-CALDESC:Events for Northern Ohio
BEGIN:VTIMEZONE
TZID:America/Detroit
BEGIN:DAYLIGHT
TZOFFSETFROM:-0500
TZOFFSETTO:-0400
TZNAME:EDT
DTSTART:20190310T070000
END:DAYLIGHT
BEGIN:STANDARD
TZOFFSETFROM:-0400
TZOFFSETTO:-0500
TZNAME:EST
DTSTART:20191103T060000
END:STANDARD
END:VTIMEZONE
BEGIN:VEVENT
DTSTART;TZID=America/Detroit:20190617T180000
DTEND;TZID=America/Detroit:20190617T200000
DTSTAMP:20210422T134929
CREATED:20190214T003334Z
LAST-MODIFIED:20190214T003334Z
UID:350-1560794400-1560801600@northernohio.surfrider.org
SUMMARY:One Hour Quick Pick on the Cuyahoga River
DESCRIPTION:One Hour Quick Pick on the Cuyahoga River at 6:00pm \nLocation: Merwin’s Wharf launch – with The Port Authority
URL:https://northernohio.surfrider.org/event/one-hour-quick-pick-on-the-cuyahoga-river/
END:VEVENT
END:VCALENDAR