BEGIN:VCALENDAR
VERSION:2.0
PRODID:-//Northern Ohio - ECPv5.2.0//NONSGML v1.0//EN
CALSCALE:GREGORIAN
METHOD:PUBLISH
X-WR-CALNAME:Northern Ohio
X-ORIGINAL-URL:https://northernohio.surfrider.org
X-WR-CALDESC:Events for Northern Ohio
BEGIN:VTIMEZONE
TZID:America/Detroit
BEGIN:DAYLIGHT
TZOFFSETFROM:-0500
TZOFFSETTO:-0400
TZNAME:EDT
DTSTART:20190310T070000
END:DAYLIGHT
BEGIN:STANDARD
TZOFFSETFROM:-0400
TZOFFSETTO:-0500
TZNAME:EST
DTSTART:20191103T060000
END:STANDARD
END:VTIMEZONE
BEGIN:VEVENT
DTSTART;TZID=America/Detroit:20191116T140000
DTEND;TZID=America/Detroit:20191116T160000
DTSTAMP:20210422T134902
CREATED:20190214T003932Z
LAST-MODIFIED:20190214T003932Z
UID:364-1573912800-1573920000@northernohio.surfrider.org
SUMMARY:One Hour Quick Pick at Battery Park
DESCRIPTION:One Hour Battery Park Quick Pick at 2:00pm with a stop at Terrestrial Brewing afterwards
URL:https://northernohio.surfrider.org/event/one-hour-quick-pick-at-battery-park/
END:VEVENT
END:VCALENDAR