BEGIN:VCALENDAR
VERSION:2.0
PRODID:-//Northern Ohio - ECPv5.2.0//NONSGML v1.0//EN
CALSCALE:GREGORIAN
METHOD:PUBLISH
X-WR-CALNAME:Northern Ohio
X-ORIGINAL-URL:https://northernohio.surfrider.org
X-WR-CALDESC:Events for Northern Ohio
BEGIN:VTIMEZONE
TZID:America/Detroit
BEGIN:DAYLIGHT
TZOFFSETFROM:-0500
TZOFFSETTO:-0400
TZNAME:EDT
DTSTART:20200308T070000
END:DAYLIGHT
BEGIN:STANDARD
TZOFFSETFROM:-0400
TZOFFSETTO:-0500
TZNAME:EST
DTSTART:20201101T060000
END:STANDARD
END:VTIMEZONE
BEGIN:VEVENT
DTSTART;TZID=America/Detroit:20200513T180000
DTEND;TZID=America/Detroit:20200513T200000
DTSTAMP:20210422T063234
CREATED:20200304T232907Z
LAST-MODIFIED:20200304T232907Z
UID:454-1589392800-1589400000@northernohio.surfrider.org
SUMMARY:Chapter Meeting with Stefanie Spear: The Foundry
DESCRIPTION:Chapter Meeting with Stefanie Spear \nThe Foundry @ 6:00pm 
URL:https://northernohio.surfrider.org/event/chapter-meeting-with-stefanie-spear-the-foundry/
END:VEVENT
END:VCALENDAR