BEGIN:VCALENDAR
VERSION:2.0
PRODID:-//Northern Ohio - ECPv5.2.0//NONSGML v1.0//EN
CALSCALE:GREGORIAN
METHOD:PUBLISH
X-WR-CALNAME:Northern Ohio
X-ORIGINAL-URL:https://northernohio.surfrider.org
X-WR-CALDESC:Events for Northern Ohio
BEGIN:VTIMEZONE
TZID:America/Detroit
BEGIN:DAYLIGHT
TZOFFSETFROM:-0500
TZOFFSETTO:-0400
TZNAME:EDT
DTSTART:20200308T070000
END:DAYLIGHT
BEGIN:STANDARD
TZOFFSETFROM:-0400
TZOFFSETTO:-0500
TZNAME:EST
DTSTART:20201101T060000
END:STANDARD
END:VTIMEZONE
BEGIN:VEVENT
DTSTART;TZID=America/Detroit:20200425T100000
DTEND;TZID=America/Detroit:20200425T120000
DTSTAMP:20210422T063424
CREATED:20200304T232729Z
LAST-MODIFIED:20200304T232729Z
UID:450-1587808800-1587816000@northernohio.surfrider.org
SUMMARY:Beach Clean Up: Wendy Park
DESCRIPTION:Beach Clean Up: Wendy Park @ 10:00am \nFollowed by Chapter Meeting 
URL:https://northernohio.surfrider.org/event/beach-clean-up-wendy-park/
END:VEVENT
END:VCALENDAR